Workbook

Sheet Prep10
B2: Week | C2: Phase | D2: Session | E2: Primary Lift | F2: Weight | G2: Sets | H2: Reps | I2: Missed Reps? | K2: Suggested Assistance exercise | L2: Weight/R.P.E. | M2: Sets x Reps | P2: Starting Max | Q2: Insert Values
B3: 1 | C3: Hypertrophy | D3: 1 | E3: Bench | F3: ='Sumo is Cheating'!E3+'Sumo is Cheating'!I3 -> 0 | G3: 3 | H3: 10 | K3: Chest Flyes | L3: 7 | M3: 4x10 | P3: Bench | Q3: 0
D4: 1 | E4: Squat | F4: ='Sumo is Cheating'!E4+'Sumo is Cheating'!I4 -> 0 | G4: 3 | H4: 10 | K4: Dumbbell Lunges | L4: 7 | M4: 4x10 | P4: Squat | Q4: 0
D5: 2 | E5: OHP | F5: ='Sumo is Cheating'!E5+'Sumo is Cheating'!I5 -> 0 | G5: 3 | H5: 8 | K5: Arnold Press | L5: 7 | M5: 4x8 | P5: OHP | Q5: 0
D6: 2 | E6: Deadlift | F6: ='Sumo is Cheating'!E6+'Sumo is Cheating'!I6 -> 0 | G6: 3 | H6: 8 | K6: Lat Pull Down | L6: 8 | M6: 4x10 | P6: Deadlift | Q6: 0
D7: 3 | E7: Bench | F7: ='Sumo is Cheating'!E7+'Sumo is Cheating'!I7 -> 0 | G7: 4 | H7: 10 | K7: Flat Dumbbell Bench | L7: 7 | M7: 4x8
D8: 3 | E8: Squat | F8: ='Sumo is Cheating'!E8+'Sumo is Cheating'!I8 -> 0 | G8: 4 | H8: 10 | K8: Tempo Squat (3-1-0) | L8: =FLOOR(('Sumo is Cheating'!E8*0.73),2.5) -> 0 | M8: 3x5
D9: 4 | E9: OHP | F9: ='Sumo is Cheating'!E9+'Sumo is Cheating'!I9 -> 0 | G9: 4 | H9: 8 | K9: Face Pulls | L9: 8 | M9: 4x10
D10: 4 | E10: Deadlift | F10: ='Sumo is Cheating'!E10+'Sumo is Cheating'!I10 -> 0 | G10: 4 | H10: 6 | K10: Deficit Deadlift | L10: =FLOOR(('Sumo is Cheating'!E10*0.8),2.5) -> 0 | M10: 4x5
D11: 5 | E11: Bench | F11: ='Sumo is Cheating'!E11+'Sumo is Cheating'!I11 -> 0 | G11: 3 | H11: 10 | K11: Close Grip Bench | L11: =FLOOR((F11*0.7),2.5) -> 0 | M11: 4x8
D12: 5 | E12: Squat | F12: ='Sumo is Cheating'!E12+'Sumo is Cheating'!I12 -> 0 | G12: 3 | H12: 10 | K12: Pause Squat (3s) | L12: =FLOOR(('Sumo is Cheating'!E12*0.7),2.5) -> 0 | M12: 3x5
B14: 2 | C14: Hypertrophy | D14: 1 | E14: Bench | F14: ='Sumo is Cheating'!E14+'Sumo is Cheating'!I14 -> 0 | G14: 4 | H14: 8 | K14: Pause Bench (3s) | L14: =FLOOR(('Sumo is Cheating'!E14*0.9),2.5) -> 0 | M14: 3x5
D15: 1 | E15: Squat | F15: ='Sumo is Cheating'!E15+'Sumo is Cheating'!I15 -> 0 | G15: 4 | H15: 8 | K15: Tempo Squat (3-1-0) | L15: =FLOOR(('Sumo is Cheating'!E15*0.73),2.5) -> 0 | M15: 3x3
D16: 2 | E16: OHP | F16: ='Sumo is Cheating'!E16+'Sumo is Cheating'!I16 -> 0 | G16: 4 | H16: 6 | K16: Arnold Press | L16: 8 | M16: 3x8
D17: 2 | E17: Deadlift | F17: ='Sumo is Cheating'!E17+'Sumo is Cheating'!I17 -> 0 | G17: 4 | H17: 6 | K17: Rack Pulls | L17: =FLOOR(('Sumo is Cheating'!E17*1.08),2.5) -> 0 | M17: 4x4
D18: 3 | E18: Bench | F18: ='Sumo is Cheating'!E18+'Sumo is Cheating'!I18 -> 0 | G18: 4 | H18: 8 | K18: Decline Dumbbell Bench | L18: 8 | M18: 4x8
D19: 3 | E19: Squat | F19: ='Sumo is Cheating'!E19+'Sumo is Cheating'!I19 -> 0 | G19: 4 | H19: 8 | K19: Pause Squat (3s) | L19: =FLOOR(('Sumo is Cheating'!E19*0.7),2.5) -> 0 | M19: 4x4
D20: 4 | E20: OHP | F20: ='Sumo is Cheating'!E20+'Sumo is Cheating'!I20 -> 0 | G20: 4 | H20: 6 | K20: Barbell Shrugs | L20: =FLOOR(('Sumo is Cheating'!E21*0.5),2.5) -> 0 | M20: 3x8
D21: 4 | E21: Deficit Deadlift | F21: ='Sumo is Cheating'!E21+'Sumo is Cheating'!I21 -> 0 | G21: 6 | H21: 3 | K21: Barbell Row | L21: =FLOOR(('Sumo is Cheating'!E21*0.4),2.5) -> 0 | M21: 3x5
D22: 5 | E22: Bench | F22: ='Sumo is Cheating'!E22+'Sumo is Cheating'!I22 -> 0 | G22: 4 | H22: 8 | K22: Close Grip Bench | L22: =FLOOR(('Sumo is Cheating'!E22*0.7),2.5) -> 0 | M22: 3x8
D23: 5 | E23: Squat | F23: ='Sumo is Cheating'!E23+'Sumo is Cheating'!I23 -> 0 | G23: 4 | H23: 8 | K23: Leg Extensions | L23: 8 | M23: 4x10
B25: 3 | C25: Hypertrophy | D25: 1 | E25: Bench | F25: ='Sumo is Cheating'!E25+'Sumo is Cheating'!I25 -> 0 | G25: 4 | H25: 8 | K25: Pause Bench (3s) | L25: =FLOOR(('Sumo is Cheating'!E25*0.9),2.5) -> 0 | M25: 3x5
D26: 1 | E26: Squat | F26: ='Sumo is Cheating'!E26+'Sumo is Cheating'!I26 -> 0 | G26: 4 | H26: 8 | K26: Pause Squat (3s) | L26: =FLOOR(('Sumo is Cheating'!E26*0.7),2.5) -> 0 | M26: 4x4
D27: 2 | E27: OHP | F27: ='Sumo is Cheating'!E27+'Sumo is Cheating'!I27 -> 0 | G27: 5 | H27: 5 | K27: Arnold Press | L27: 8 | M27: 4x8
D28: 2 | E28: Deadlift | F28: ='Sumo is Cheating'!E28+'Sumo is Cheating'!I28 -> 0 | G28: 4 | H28: 6 | K28: Rack Pulls | L28: =FLOOR(('Sumo is Cheating'!E28*1.08),2.5) -> 0 | M28: 4x4
D29: 3 | E29: Bench | F29: ='Sumo is Cheating'!E29+'Sumo is Cheating'!I29 -> 0 | G29: 4 | H29: 8 | K29: Incline Dumbbell Bench | L29: 8 | M29: 3x8
D30: 3 | E30: Squat | F30: ='Sumo is Cheating'!E30+'Sumo is Cheating'!I30 -> 0 | G30: 2 | H30: 2 | K30: Tempo Squat (3-1-0) | L30: =FLOOR(('Sumo is Cheating'!E30*0.65),2.5) -> 0 | M30: 3x3
D31: 4 | E31: Deficit Deadlift | F31: ='Sumo is Cheating'!E31+'Sumo is Cheating'!I31 -> 0 | G31: 6 | H31: 3 | K31: Pause Deadlift (1s) | L31: =FLOOR((F28*0.85),2.5) -> 0 | M31: 3x4
D32: 5 | E32: Bench | F32: ='Sumo is Cheating'!E32+'Sumo is Cheating'!I32 -> 0 | G32: 4 | H32: 6 | K32: Floor Press | L32: =FLOOR(('Sumo is Cheating'!E32*0.7),2.5) -> 0 | M32: 3x5
D33: 5 | E33: Squat | F33: ='Sumo is Cheating'!E33+'Sumo is Cheating'!I33 -> 0 | G33: 4 | H33: 8 | K33: Dumbbell Lunges | L33: 7 | M33: 4x10
B35: 4 | C35: Hypertrophy | D35: 1 | E35: Bench | F35: ='Sumo is Cheating'!E35+'Sumo is Cheating'!I35 -> 0 | G35: 5 | H35: 5 | K35: Pause Bench (3s) | L35: =FLOOR(('Sumo is Cheating'!E35*0.9),2.5) -> 0 | M35: 3x5
D36: 1 | E36: Squat | F36: ='Sumo is Cheating'!E36+'Sumo is Cheating'!I36 -> 0 | G36: 5 | H36: 5 | K36: Pause Squat (3s) | L36: =FLOOR(('Sumo is Cheating'!E36*0.7),2.5) -> 0 | M36: 4x4
D37: 2 | E37: OHP | F37: ='Sumo is Cheating'!E37+'Sumo is Cheating'!I37 -> 0 | G37: 4 | H37: 6 | K37: Arnold Press | L37: 7 | M37: 4x8
D38: 2 | E38: Deadlift | F38: ='Sumo is Cheating'!E38+'Sumo is Cheating'!I38 -> 0 | G38: 4 | H38: 4 | K38: Rack Pulls | L38: =FLOOR(('Sumo is Cheating'!E38*1.08),2.5) -> 0 | M38: 4x4
D39: 3 | E39: Bench | F39: ='Sumo is Cheating'!E39+'Sumo is Cheating'!I39 -> 0 | G39: 5 | H39: 5 | K39: Decline Dumbbell Bench | L39: 8 | M39: 3x8
D40: 3 | E40: Squat | F40: ='Sumo is Cheating'!E40+'Sumo is Cheating'!I40 -> 0 | G40: 2 | H40: 2 | K40: Tempo Squat (3-1-0) | L40: =FLOOR(('Sumo is Cheating'!E40*0.65),2.5) -> 0 | M40: 3x3
D41: 4 | E41: Deficit Deadlift | F41: ='Sumo is Cheating'!E41+'Sumo is Cheating'!I41 -> 0 | G41: 6 | H41: 3 | K41: Barbell Row | L41: =FLOOR(('Sumo is Cheating'!E41*0.5),2.5) -> 0 | M41: 3x5
D42: 5 | E42: Bench | F42: ='Sumo is Cheating'!E42+'Sumo is Cheating'!I42 -> 0 | G42: 5 | H42: 5 | K42: Close Grip Bench | L42: =FLOOR(('Sumo is Cheating'!E42*0.7),2.5) -> 0 | M42: 3x6
D43: 5 | E43: Squat | F43: ='Sumo is Cheating'!E43+'Sumo is Cheating'!I43 -> 0 | G43: 5 | H43: 5 | K43: Leg Extensions | L43: 8 | M43: 4x10
B45: 5 | C45: Hypertrophy | D45: 1 | E45: Bench | F45: ='Sumo is Cheating'!E45+'Sumo is Cheating'!I45 -> 0 | G45: 4 | H45: 4 | K45: Pause Bench (3s) | L45: =FLOOR(('Sumo is Cheating'!E45*0.9),2.5) -> 0 | M45: 3x5
...

Sheet Sumo is Cheating
C2: % | M2: Session | N2: s | P2: Total | S2: Week | T2: w | V2: m | X2: t | AA2: Sesh | AD2: Week | AG2: Mes | AJ2: lft | AN2: Starting Max | AP2: Week 6 Max
A3: =Prep10!Q3 -> 0 | C3: 0.6 | E3: =FLOOR(('Sumo is Cheating'!$A$3*'Sumo is Cheating'!C3),2.5) -> 0 | G3: =Prep10!G3*Prep10!H3 -> 30 | H3: =FLOOR(('Sumo is Cheating'!G3*0.9),1) -> 27 | I3: 0 | J3: ='Sumo is Cheating'!G3-Prep10!I3 -> 30 | M3: 1.1.1 | N3: =Prep10!E3 -> Bench | O3: =Prep10!F3*'Sumo is Cheating'!J3 -> 0 | P3: =SUM(O3:O4) -> 0 | Q3: 1.1 | S3: 1 | T3: =O3+O7+O11 -> 0 | U3: =SUM(T3:T6) -> 0 | V3: =T3+T14+T25+T35+T45 -> 0 | W3: =SUM(V3:V6) -> 0 | X3: =V3+V55+V64+V82 -> 0 | Y3: =SUM(X3:X6) -> 0 | AA3: =P3 -> 0 | AB3: =Q3 -> 1.1 | AD3: =U3 -> 0 | AE3: 1 | AG3: =W3 -> 0 | AH3: Hypertrophy | AJ3: =X4 -> 0 | AK3: Squat | AN3: =Prep10!Q3 -> 0 | AO3: Bench | AP3: =Prep10!Q59 -> 0 | AQ3: Bench
A4: =Prep10!Q4 -> 0 | C4: 0.67 | E4: =FLOOR(('Sumo is Cheating'!$A$4*'Sumo is Cheating'!C4),2.5) -> 0 | G4: =Prep10!G4*Prep10!H4 -> 30 | H4: =FLOOR(('Sumo is Cheating'!G4*0.9),1) -> 27 | I4: 0 | J4: ='Sumo is Cheating'!G4-Prep10!I4 -> 30 | M4: 1.1.2 | N4: =Prep10!E4 -> Squat | O4: =Prep10!F4*'Sumo is Cheating'!J4 -> 0 | T4: =O4+O8+O12 -> 0 | V4: =T4+T15+T26+T36+T46 -> 0 | X4: =V4+V56+V65+V83 -> 0 | AA4: =P5 -> 0 | AB4: =Q5 -> 1.2 | AD4: =U14 -> 0 | AE4: 2 | AG4: =W55 -> 0 | AH4: Transition | AJ4: =X3 -> 0 | AK4: Bench | AN4: =Prep10!Q4 -> 0 | AO4: Squat | AP4: =Prep10!Q60 -> 0 | AQ4: Squat
A5: =Prep10!Q5 -> 0 | C5: 0.6 | E5: =FLOOR(('Sumo is Cheating'!$A$5*'Sumo is Cheating'!C5),2.5) -> 0 | G5: =Prep10!G5*Prep10!H5 -> 24 | H5: =FLOOR(('Sumo is Cheating'!G5*0.9),1) -> 21 | I5: 0 | J5: ='Sumo is Cheating'!G5-Prep10!I5 -> 24 | M5: 1.2.1 | N5: =Prep10!E5 -> OHP | O5: =Prep10!F5*'Sumo is Cheating'!J5 -> 0 | P5: =SUM(O5:O6) -> 0 | Q5: 1.2 | T5: =O5+O9 -> 0 | V5: =T5+T16+T27+T37+T47 -> 0 | X5: =V5+V57+V66+V84 -> 0 | AA5: =P7 -> 0 | AB5: =Q7 -> 1.3 | AD5: =U25 -> 0 | AE5: 3 | AG5: =W64 -> 0 | AH5: Intensity | AJ5: =X6 -> 0 | AK5: Deadlift | AN5: =Prep10!Q5 -> 0 | AO5: OHP | AP5: =Prep10!Q61 -> 0 | AQ5: OHP
A6: =Prep10!Q6 -> 0 | C6: 0.7 | E6: =FLOOR(('Sumo is Cheating'!$A$6*'Sumo is Cheating'!C6),2.5) -> 0 | G6: =Prep10!G6*Prep10!H6 -> 24 | H6: =FLOOR(('Sumo is Cheating'!G6*0.9),1) -> 21 | I6: 0 | J6: ='Sumo is Cheating'!G6-Prep10!I6 -> 24 | M6: 1.2.2 | N6: =Prep10!E6 -> Deadlift | O6: =Prep10!F6*'Sumo is Cheating'!J6 -> 0 | T6: =O6+O10 -> 0 | V6: =T6+T17+T28+T38+T48 -> 0 | X6: =V6+V58+V67+V85 -> 0 | AA6: =P9 -> 0 | AB6: =Q9 -> 1.4 | AD6: =U35 -> 0 | AE6: 4 | AG6: =W82 -> 0 | AH6: Deload | AJ6: =X5 -> 0 | AK6: OHP | AN6: =Prep10!Q6 -> 0 | AO6: Deadlift | AP6: =Prep10!Q62 -> 0 | AQ6: Deadlift
C7: 0.6 | E7: =FLOOR(('Sumo is Cheating'!$A$3*'Sumo is Cheating'!C7),2.5) -> 0 | G7: =Prep10!G7*Prep10!H7 -> 40 | H7: =FLOOR(('Sumo is Cheating'!G7*0.9),1) -> 36 | I7: 0 | J7: ='Sumo is Cheating'!G7-Prep10!I7 -> 40 | M7: 1.3.1 | N7: =Prep10!E7 -> Bench | O7: =Prep10!F7*'Sumo is Cheating'!J7 -> 0 | P7: =SUM(O7:O8) -> 0 | Q7: 1.3 | AA7: =P11 -> 0 | AB7: =Q11 -> 1.5 | AD7: =U45 -> 0 | AE7: 5
C8: 0.67 | E8: =FLOOR(('Sumo is Cheating'!$A$4*'Sumo is Cheating'!C8),2.5) -> 0 | G8: =Prep10!G8*Prep10!H8 -> 40 | H8: =FLOOR(('Sumo is Cheating'!G8*0.9),1) -> 36 | I8: 0 | J8: ='Sumo is Cheating'!G8-Prep10!I8 -> 40 | M8: 1.3.2 | N8: =Prep10!E8 -> Squat | O8: =Prep10!F8*'Sumo is Cheating'!J8 -> 0 | AA8: =P14 -> 0 | AB8: =Q14 -> 2.1 | AD8: =U55 -> 0 | AE8: 6 | AO8: %
C9: 0.6 | E9: =FLOOR(('Sumo is Cheating'!$A$5*'Sumo is Cheating'!C9),2.5) -> 0 | G9: =Prep10!G9*Prep10!H9 -> 32 | H9: =FLOOR(('Sumo is Cheating'!G9*0.9),1) -> 28 | I9: =IF('Sumo is Cheating'!J5<'Sumo is Cheating'!H5,-2.5,0) -> 0 | J9: ='Sumo is Cheating'!G9-Prep10!I9 -> 32 | M9: 1.4.1 | N9: =Prep10!E9 -> OHP | O9: =Prep10!F9*'Sumo is Cheating'!J9 -> 0 | P9: =SUM(O9:O10) -> 0 | Q9: 1.4 | AA9: =P16 -> 0 | AB9: =Q16 -> 2.2 | AD9: =U64 -> 0 | AE9: 7 | AO9: =((AP4-AN4)/AN4)*100 -> #DIV/0!
C10: 0.73 | E10: =FLOOR(('Sumo is Cheating'!$A$6*'Sumo is Cheating'!C10),2.5) -> 0 | G10: =Prep10!G10*Prep10!H10 -> 24 | H10: =FLOOR(('Sumo is Cheating'!G10*0.9),1) -> 21 | I10: =IF('Sumo is Cheating'!J6<'Sumo is Cheating'!H6,-2.5,0) -> 0 | J10: ='Sumo is Cheating'!G10-Prep10!I10 -> 24 | M10: 1.4.2 | N10: =Prep10!E10 -> Deadlift | O10: =Prep10!F10*'Sumo is Cheating'!J10 -> 0 | AA10: =P18 -> 0 | AB10: =Q18 -> 2.3 | AD10: =U70 -> 0 | AE10: 8 | AO10: =((AP3-AN3)/AN3)*100 -> #DIV/0!
C11: 0.63 | E11: =FLOOR(('Sumo is Cheating'!$A$3*'Sumo is Cheating'!C11),2.5) -> 0 | G11: =Prep10!G11*Prep10!H11 -> 30 | H11: =FLOOR(('Sumo is Cheating'!G11*0.9),1) -> 27 | I11: =IF('Sumo is Cheating'!J7<'Sumo is Cheating'!H7,-2.5,0) -> 0 | J11: ='Sumo is Cheating'!G11-Prep10!I11 -> 30 | M11: 1.5.1 | N11: =Prep10!E11 -> Bench | O11: =Prep10!F11*'Sumo is Cheating'!J11 -> 0 | P11: =SUM(O11:O12) -> 0 | Q11: 1.5 | AA11: =P20 -> 0 | AB11: =Q20 -> 2.4 | AD11: =U76 -> 0 | AE11: 9 | AO11: =((AP6-AN6)/AN6)*100 -> #DIV/0!
C12: 0.7 | E12: =FLOOR(('Sumo is Cheating'!$A$4*'Sumo is Cheating'!C12),2.5) -> 0 | G12: =Prep10!G12*Prep10!H12 -> 30 | H12: =FLOOR(('Sumo is Cheating'!G12*0.9),1) -> 27 | I12: =IF('Sumo is Cheating'!J8<'Sumo is Cheating'!H8,-2.5,0) -> 0 | J12: ='Sumo is Cheating'!G12-Prep10!I12 -> 30 | M12: 1.5.2 | N12: =Prep10!E12 -> Squat | O12: =Prep10!F12*'Sumo is Cheating'!J12 -> 0 | AA12: =P22 -> 0 | AB12: =Q22 -> 2.5 | AD12: =U82 -> 0 | AE12: 10 | AO12: =((AP5-AN5)/AN5)*100 -> #DIV/0!
C13: 0.63 | G13: =Prep10!G13*Prep10!H13 -> 0 | H13: =FLOOR(('Sumo is Cheating'!G13*0.9),1) -> 0 | J13: ='Sumo is Cheating'!G13-Prep10!I13 -> 0 | M13: =Prep10!D13 -> 0 | N13: =Prep10!E13 -> 0 | O13: =Prep10!F13*'Sumo is Cheating'!J13 -> 0 | AA13: =P25 -> 0 | AB13: =Q25 -> 3.1
C14: 0.73 | E14: =FLOOR(('Sumo is Cheating'!$A$3*'Sumo is Cheating'!C13),2.5) -> 0 | G14: =Prep10!G14*Prep10!H14 -> 32 | H14: =FLOOR(('Sumo is Cheating'!G14*0.9),1) -> 28 | I14: =IF('Sumo is Cheating'!J11<'Sumo is Cheating'!H11,-2.5,0) -> 0 | J14: ='Sumo is Cheating'!G14-Prep10!I14 -> 32 | M14: 2.1.1 | N14: =Prep10!E14 -> Bench | O14: =Prep10!F14*'Sumo is Cheating'!J14 -> 0 | P14: =SUM(O14:O15) -> 0 | Q14: 2.1 | S14: 2 | T14: =O14+O18+O22 -> 0 | U14: =SUM(T14:T17) -> 0 | AA14: =P27 -> 0 | AB14: =Q27 -> 3.2
C15: 0.75 | E15: =FLOOR(('Sumo is Cheating'!$A$4*'Sumo is Cheating'!C14),2.5) -> 0 | G15: =Prep10!G15*Prep10!H15 -> 32 | H15: =FLOOR(('Sumo is Cheating'!G15*0.9),1) -> 28 | I15: =IF('Sumo is Cheating'!J12<'Sumo is Cheating'!H12,-2.5,0) -> 0 | J15: ='Sumo is Cheating'!G15-Prep10!I15 -> 32 | M15: 2.1.2 | N15: =Prep10!E15 -> Squat | O15: =Prep10!F15*'Sumo is Cheating'!J15 -> 0 | T15: =O15+O19+O23 -> 0 | AA15: =P29 -> 0 | AB15: =Q29 -> 3.3
C16: 0.77 | E16: =FLOOR(('Sumo is Cheating'!$A$5*'Sumo is Cheating'!C15),2.5) -> 0 | G16: =Prep10!G16*Prep10!H16 -> 24 | H16: =FLOOR(('Sumo is Cheating'!G16*0.9),1) -> 21 | I16: =IF('Sumo is Cheating'!J9<'Sumo is Cheating'!H9,-2.5,0) -> 0 | J16: ='Sumo is Cheating'!G16-Prep10!I16 -> 24 | M16: 2.2.1 | N16: =Prep10!E16 -> OHP | O16: =Prep10!F16*'Sumo is Cheating'!J16 -> 0 | P16: =SUM(O16:O17) -> 0 | Q16: 2.2 | T16: =O16+O20 -> 0 | AA16: =P31 -> 0 | AB16: =Q31 -> 3.4
C17: 0.65 | E17: =FLOOR(('Sumo is Cheating'!$A$6*'Sumo is Cheating'!C16),2.5) -> 0 | G17: =Prep10!G17*Prep10!H17 -> 24 | H17: =FLOOR(('Sumo is Cheating'!G17*0.9),1) -> 21 | I17: =IF('Sumo is Cheating'!J10<'Sumo is Cheating'!H10,-2.5,0) -> 0 | J17: ='Sumo is Cheating'!G17-Prep10!I17 -> 24 | M17: 2.2.2 | N17: =Prep10!E17 -> Deadlift | O17: =Prep10!F17*'Sumo is Cheating'!J17 -> 0 | T17: =O17+O21 -> 0 | AA17: =P32 -> 0 | AB17: =Q32 -> 3.5
C18: 0.75 | E18: =FLOOR(('Sumo is Cheating'!$A$3*'Sumo is Cheating'!C17),2.5) -> 0 | G18: =Prep10!G18*Prep10!H18 -> 32 | H18: =FLOOR(('Sumo is Cheating'!G18*0.9),1) -> 28 | I18: =IF('Sumo is Cheating'!J14<'Sumo is Cheating'!H14,-2.5,0) -> 0 | J18: ='Sumo is Cheating'!G18-Prep10!I18 -> 32 | M18: 2.3.1 | N18: =Prep10!E18 -> Bench | O18: =Prep10!F18*'Sumo is Cheating'!J18 -> 0 | P18: =SUM(O18:O19) -> 0 | Q18: 2.3 | AA18: =P35 -> 0 | AB18: =Q35 -> 4.1
C19: 0.75 | E19: =FLOOR(('Sumo is Cheating'!$A$4*'Sumo is Cheating'!C18),2.5) -> 0 | G19: =Prep10!G19*Prep10!H19 -> 32 | H19: =FLOOR(('Sumo is Cheating'!G19*0.9),1) -> 28 | I19: =IF('Sumo is Cheating'!J15<'Sumo is Cheating'!H15,-2.5,0) -> 0 | J19: ='Sumo is Cheating'!G19-Prep10!I19 -> 32 | M19: 2.3.2 | N19: =Prep10!E19 -> Squat | O19: =Prep10!F19*'Sumo is Cheating'!J19 -> 0 | AA19: =P37 -> 0 | AB19: =Q37 -> 4.2
C20: 0.65 | E20: =FLOOR(('Sumo is Cheating'!$A$5*'Sumo is Cheating'!C19),2.5) -> 0 | G20: =Prep10!G20*Prep10!H20 -> 24 | H20: =FLOOR(('Sumo is Cheating'!G20*0.9),1) -> 21 | I20: =IF('Sumo is Cheating'!J16<'Sumo is Cheating'!H16,-2.5,0) -> 0 | J20: ='Sumo is Cheating'!G20-Prep10!I20 -> 24 | M20: 2.4.1 | N20: =Prep10!E20 -> OHP | O20: =Prep10!F20*'Sumo is Cheating'!J20 -> 0 | P20: =SUM(O20:O21) -> 0 | Q20: 2.4 | AA20: =P39 -> 0 | AB20: =Q39 -> 4.3
C21: 0.67 | E21: =FLOOR(('Sumo is Cheating'!$A$6*'Sumo is Cheating'!C20),2.5) -> 0 | G21: =Prep10!G21*Prep10!H21 -> 18 | H21: =FLOOR(('Sumo is Cheating'!G21*0.9),1) -> 16 | I21: 0 | J21: ='Sumo is Cheating'!G21-Prep10!I21 -> 18 | M21: 2.4.2 | N21: =Prep10!E21 -> Deficit Deadlift | O21: =Prep10!F21*'Sumo is Cheating'!J21 -> 0 | AA21: =P41 -> 0 | AB21: =Q41 -> 4.4
C22: 0.77 | E22: =FLOOR(('Sumo is Cheating'!$A$3*'Sumo is Cheating'!C21),2.5) -> 0 | G22: =Prep10!G22*Prep10!H22 -> 32 | H22: =FLOOR(('Sumo is Cheating'!G22*0.9),1) -> 28 | I22: =IF('Sumo is Cheating'!J18<'Sumo is Cheating'!H18,-2.5,0) -> 0 | J22: ='Sumo is Cheating'!G22-Prep10!I22 -> 32 | M22: 2.5.1 | N22: =Prep10!E22 -> Bench | O22: =Prep10!F22*'Sumo is Cheating'!J22 -> 0 | P22: =SUM(O22:O23) -> 0 | Q22: 2.5 | AA22: =P42 -> 0 | AB22: =Q42 -> 4.5
C23: 0.7 | E23: =FLOOR(('Sumo is Cheating'!$A$4*'Sumo is Cheating'!C22),2.5) -> 0 | G23: =Prep10!G23*Prep10!H23 -> 32 | H23: =FLOOR(('Sumo is Cheating'!G23*0.9),1) -> 28 | I23: =IF('Sumo is Cheating'!J19<'Sumo is Cheating'!H19,-2.5,0) -> 0 | J23: ='Sumo is Cheating'!G23-Prep10!I23 -> 32 | M23: 2.5.2 | N23: =Prep10!E23 -> Squat | O23: =Prep10!F23*'Sumo is Cheating'!J23 -> 0 | AA23: =P45 -> 0 | AB23: =Q45 -> 5.1
C24: 0.8 | G24: =Prep10!G24*Prep10!H24 -> 0 | H24: =FLOOR(('Sumo is Cheating'!G24*0.9),1) -> 0 | J24: ='Sumo is Cheating'!G24-Prep10!I24 -> 0 | M24: =Prep10!D24 -> 0 | N24: =Prep10!E24 -> 0 | O24: =Prep10!F24*'Sumo is Cheating'!J24 -> 0 | AA24: =P47 -> 0 | AB24: =Q47 -> 5.2
C25: 0.77 | E25: =FLOOR(('Sumo is Cheating'!$A$3*'Sumo is Cheating'!C23),2.5) -> 0 | G25: =Prep10!G25*Prep10!H25 -> 32 | H25: =FLOOR(('Sumo is Cheating'!G25*0.9),1) -> 28 | I25: =IF('Sumo is Cheating'!J22<'Sumo is Cheating'!H22,-2.5,0) -> 0 | J25: ='Sumo is Cheating'!G25-Prep10!I25 -> 32 | M25: 3.1.1 | N25: =Prep10!E25 -> Bench | O25: =Prep10!F25*'Sumo is Cheating'!J25 -> 0 | P25: =SUM(O25:O26) -> 0 | Q25: 3.1 | S25: 3 | T25: =O25+O29+O32 -> 0 | U25: =SUM(T25:T28) -> 0 | AA25: =P48 -> 0 | AB25: =Q48 -> 5.3
C26: 0.85 | E26: =FLOOR(('Sumo is Cheating'!$A$4*'Sumo is Cheating'!C24),2.5) -> 0 | G26: =Prep10!G26*Prep10!H26 -> 32 | H26: =FLOOR(('Sumo is Cheating'!G26*0.9),1) -> 28 | I26: =IF('Sumo is Cheating'!J23<'Sumo is Cheating'!H23,-2.5,0) -> 0 | J26: ='Sumo is Cheating'!G26-Prep10!I26 -> 32 | M26: 3.1.2 | N26: =Prep10!E26 -> Squat | O26: =Prep10!F26*'Sumo is Cheating'!J26 -> 0 | T26: =O26+O30+O33 -> 0 | AA26: =P50 -> 0 | AB26: =Q50 -> 5.4
C27: 0.73 | E27: =FLOOR(('Sumo is Cheating'!$A$5*'Sumo is Cheating'!C25),2.5) -> 0 | G27: =Prep10!G27*Prep10!H27 -> 25 | H27: =FLOOR(('Sumo is Cheating'!G27*0.9),1) -> 22 | I27: =IF('Sumo is Cheating'!J20<'Sumo is Cheating'!H20,-2.5,0) -> 0 | J27: ='Sumo is Cheating'!G27-Prep10!I27 -> 25 | M27: 3.2.1 | N27: =Prep10!E27 -> OHP | O27: =Prep10!F27*'Sumo is Cheating'!J27 -> 0 | P27: =SUM(O27:O28) -> 0 | Q27: 3.2 | T27: =O27 -> 0 | AA27: =P52 -> 0 | AB27: =Q52 -> 5.5
C28: 0.95 | E28: =FLOOR(('Sumo is Cheating'!$A$6*'Sumo is Cheating'!C26),2.5) -> 0 | G28: =Prep10!G28*Prep10!H28 -> 24 | H28: =FLOOR(('Sumo is Cheating'!G28*0.9),1) -> 21 | I28: =IF('Sumo is Cheating'!J17<'Sumo is Cheating'!H17,-2.5,0) -> 0 | J28: ='Sumo is Cheating'!G28-Prep10!I28 -> 24 | M28: 3.2.2 | N28: =Prep10!E28 -> Deadlift | O28: =Prep10!F28*'Sumo is Cheating'!J28 -> 0 | T28: =O28+O31 -> 0 | AA28: =P55 -> 0 | AB28: =Q55 -> 6.1
C29: 0.7 | E29: =FLOOR(('Sumo is Cheating'!$A$3*'Sumo is Cheating'!C27),2.5) -> 0 | G29: =Prep10!G29*Prep10!H29 -> 32 | H29: =FLOOR(('Sumo is Cheating'!G29*0.9),1) -> 28 | I29: =IF('Sumo is Cheating'!J25<'Sumo is Cheating'!H25,-2.5,0) -> 0 | J29: ='Sumo is Cheating'!G29-Prep10!I29 -> 32 | M29: 3.3.1 | N29: =Prep10!E29 -> Bench | O29: =Prep10!F29*'Sumo is Cheating'!J29 -> 0 | P29: =SUM(O29:O30) -> 0 | Q29: 3.3 | AA29: =P57 -> 0 | AB29: =Q57 -> 6.2
C30: 0.75 | E30: =FLOOR(('Sumo is Cheating'!$A$4*'Sumo is Cheating'!C28),2.5) -> 0 | G30: =Prep10!G30*Prep10!H30 -> 4 | H30: =FLOOR(('Sumo is Cheating'!G30*0.9),1) -> 3 | I30: 0 | J30: ='Sumo is Cheating'!G30-Prep10!I30 -> 4 | M30: 3.3.2 | N30: =Prep10!E30 -> Squat | O30: =Prep10!F30*'Sumo is Cheating'!J30 -> 0 | AA30: =P59 -> 0 | AB30: =Q59 -> 6.3
C31: 0.8 | E31: =FLOOR(('Sumo is Cheating'!$A$6*'Sumo is Cheating'!C29),2.5) -> 0 | G31: =Prep10!G31*Prep10!H31 -> 18 | H31: =FLOOR(('Sumo is Cheating'!G31*0.9),1) -> 16 | I31: =IF('Sumo is Cheating'!J21<'Sumo is Cheating'!H21,-2.5,0) -> 0 | J31: ='Sumo is Cheating'!G31-Prep10!I31 -> 18 | M31: 3.4.1 | N31: =Prep10!E31 -> Deficit Deadlift | O31: =Prep10!F31*'Sumo is Cheating'!J31 -> 0 | P31: =O31 -> 0 | Q31: 3.4 | AA31: =P61 -> 0 | AB31: =Q61 -> 6.4
C32: 0.8 | E32: =FLOOR(('Sumo is Cheating'!$A$3*'Sumo is Cheating'!C30),2.5) -> 0 | G32: =Prep10!G32*Prep10!H32 -> 24 | H32: =FLOOR(('Sumo is Cheating'!G32*0.9),1) -> 21 | I32: =IF('Sumo is Cheating'!J29<'Sumo is Cheating'!H29,-2.5,0) -> 0 | J32: ='Sumo is Cheating'!G32-Prep10!I32 -> 24 | M32: 3.5.1 | N32: =Prep10!E32 -> Bench | O32: =Prep10!F32*'Sumo is Cheating'!J32 -> 0 | P32: =SUM(O32:O33) -> 0 | Q32: 3.5 | AA32: =P64 -> 0 | AB32: =Q64 -> 7.1
C33: 0.85 | E33: =FLOOR(('Sumo is Cheating'!$A$4*'Sumo is Cheating'!C31),2.5) -> 0 | G33: =Prep10!G33*Prep10!H33 -> 32 | H33: =FLOOR(('Sumo is Cheating'!G33*0.9),1) -> 28 | I33: =IF('Sumo is Cheating'!J26<'Sumo is Cheating'!H26,-2.5,0) -> 0 | J33: ='Sumo is Cheating'!G33-Prep10!I33 -> 32 | M33: 3.5.2 | N33: =Prep10!E33 -> Squat | O33: =Prep10!F33*'Sumo is Cheating'!J33 -> 0 | AA33: =P65 -> 0 | AB33: =Q65 -> 7.2
C34: 0.82 | G34: =Prep10!G34*Prep10!H34 -> 0 | H34: =FLOOR(('Sumo is Cheating'!G34*0.9),1) -> 0 | J34: ='Sumo is Cheating'!G34-Prep10!I34 -> 0 | M34: =Prep10!D34 -> 0 | N34: =Prep10!E34 -> 0 | O34: =Prep10!F34*'Sumo is Cheating'!J34 -> 0 | AA34: =P67 -> 0 | AB34: =Q67 -> 7.3
C35: 0.89 | E35: =FLOOR(('Sumo is Cheating'!$A$3*'Sumo is Cheating'!C32),2.5) -> 0 | G35: =Prep10!G35*Prep10!H35 -> 25 | H35: =FLOOR(('Sumo is Cheating'!G35*0.9),1) -> 22 | I35: =IF('Sumo is Cheating'!J32<'Sumo is Cheating'!H32,-2.5,0) -> 0 | J35: ='Sumo is Cheating'!G35-Prep10!I35 -> 25 | M35: 4.1.1 | N35: =Prep10!E35 -> Bench | O35: =Prep10!F35*'Sumo is Cheating'!J35 -> 0 | P35: =SUM(O35:O36) -> 0 | Q35: 4.1 | S35: 4 | T35: =O35+O39+O42 -> 0 | U35: =SUM(T35:T38) -> 0 | AA35: =P70 -> 0 | AB35: =Q70 -> 8.1
C36: 0.83 | E36: =FLOOR(('Sumo is Cheating'!$A$4*'Sumo is Cheating'!C33),2.5) -> 0 | G36: =Prep10!G36*Prep10!H36 -> 25 | H36: =FLOOR(('Sumo is Cheating'!G36*0.9),1) -> 22 | I36: =IF('Sumo is Cheating'!J33<'Sumo is Cheating'!H33,-2.5,0) -> 0 | J36: ='Sumo is Cheating'!G36-Prep10!I36 -> 25 | M36: 4.1.2 | N36: =Prep10!E36 -> Squat | O36: =Prep10!F36*'Sumo is Cheating'!J36 -> 0 | T36: =O36+O40+O43 -> 0 | AA36: =P71 -> 0 | AB36: =Q71 -> 8.2
C37: 0.95 | E37: =FLOOR(('Sumo is Cheating'!$A$5*'Sumo is Cheating'!C34),2.5) -> 0 | G37: =Prep10!G37*Prep10!H37 -> 24 | H37: =FLOOR(('Sumo is Cheating'!G37*0.9),1) -> 21 | I37: =IF('Sumo is Cheating'!J27<'Sumo is Cheating'!H27,-2.5,0) -> 0 | J37: ='Sumo is Cheating'!G37-Prep10!I37 -> 24 | M37: 4.2.1 | N37: =Prep10!E37 -> OHP | O37: =Prep10!F37*'Sumo is Cheating'!J37 -> 0 | P37: =SUM(O37:O38) -> 0 | Q37: 4.2 | T37: =O37 -> 0 | AA37: =P73 -> 0 | AB37: =Q73 -> 8.3
C38: 0.75 | E38: =FLOOR(('Sumo is Cheating'!$A$6*'Sumo is Cheating'!C35),2.5) -> 0 | G38: =Prep10!G38*Prep10!H38 -> 16 | H38: =FLOOR(('Sumo is Cheating'!G38*0.9),1) -> 14 | I38: =IF('Sumo is Cheating'!J28<'Sumo is Cheating'!H28,-2.5,0) -> 0 | J38: ='Sumo is Cheating'!G38-Prep10!I38 -> 16 | M38: 4.2.2 | N38: =Prep10!E38 -> Deadlift | O38: =Prep10!F38*'Sumo is Cheating'!J38 -> 0 | T38: =O38+O41 -> 0 | AA38: =P76 -> 0 | AB38: =Q76 -> 9.1
C39: 0.85 | E39: =FLOOR(('Sumo is Cheating'!$A$3*'Sumo is Cheating'!C36),2.5) -> 0 | G39: =Prep10!G39*Prep10!H39 -> 25 | H39: =FLOOR(('Sumo is Cheating'!G39*0.9),1) -> 22 | I39: =IF('Sumo is Cheating'!J35<'Sumo is Cheating'!H35,-2.5,0) -> 0 | J39: ='Sumo is Cheating'!G39-Prep10!I39 -> 25 | M39: 4.3.1 | N39: =Prep10!E39 -> Bench | O39: =Prep10!F39*'Sumo is Cheating'!J39 -> 0 | P39: =SUM(O39:O40) -> 0 | Q39: 4.3 | AA39: =P77 -> 0 | AB39: =Q77 -> 9.2
C40: 0.87 | E40: =FLOOR(('Sumo is Cheating'!$A$4*'Sumo is Cheating'!C37),2.5) -> 0 | G40: =Prep10!G40*Prep10!H40 -> 4 | H40: =FLOOR(('Sumo is Cheating'!G40*0.9),1) -> 3 | I40: =IF('Sumo is Cheating'!J30<'Sumo is Cheating'!H30,-2.5,0) -> 0 | J40: ='Sumo is Cheating'!G40-Prep10!I40 -> 4 | M40: 4.3.2 | N40: =Prep10!E40 -> Squat | O40: =Prep10!F40*'Sumo is Cheating'!J40 -> 0 | AA40: =P79 -> 0 | AB40: =Q79 -> 9.3
C41: 0.9 | E41: =FLOOR(('Sumo is Cheating'!$A$6*'Sumo is Cheating'!C38),2.5) -> 0 | G41: =Prep10!G41*Prep10!H41 -> 18 | H41: =FLOOR(('Sumo is Cheating'!G41*0.9),1) -> 16 | I41: =IF('Sumo is Cheating'!J31<'Sumo is Cheating'!H31,-2.5,0) -> 0 | J41: ='Sumo is Cheating'!G41-Prep10!I41 -> 18 | M41: 4.4.1 | N41: =Prep10!E41 -> Deficit Deadlift | O41: =Prep10!F41*'Sumo is Cheating'!J41 -> 0 | P41: =O41 -> 0 | Q41: 4.4 | AA41: =P82 -> 0 | AB41: =Q82 -> 10.1
...

Sheet Output
A1: www.liftteam6.com
B19: Lift | C19: % Change
B20: Squat | C20: ='Sumo is Cheating'!AO9 -> #DIV/0!
B21: Bench | C21: ='Sumo is Cheating'!AO10 -> #DIV/0!
B22: Deadlift | C22: ='Sumo is Cheating'!AO11 -> #DIV/0!
B23: OHP | C23: ='Sumo is Cheating'!AO12 -> #DIV/0!
B59: Session | C59: Tonnage
B60: ='Sumo is Cheating'!AB3 -> 1.1 | C60: ='Sumo is Cheating'!AA3 -> 0
B61: ='Sumo is Cheating'!AB4 -> 1.2 | C61: ='Sumo is Cheating'!AA4 -> 0
B62: ='Sumo is Cheating'!AB5 -> 1.3 | C62: ='Sumo is Cheating'!AA5 -> 0
B63: ='Sumo is Cheating'!AB6 -> 1.4 | C63: ='Sumo is Cheating'!AA6 -> 0
B64: ='Sumo is Cheating'!AB7 -> 1.5 | C64: ='Sumo is Cheating'!AA7 -> 0
B65: ='Sumo is Cheating'!AB8 -> 2.1 | C65: ='Sumo is Cheating'!AA8 -> 0
B66: ='Sumo is Cheating'!AB9 -> 2.2 | C66: ='Sumo is Cheating'!AA9 -> 0
B67: ='Sumo is Cheating'!AB10 -> 2.3 | C67: ='Sumo is Cheating'!AA10 -> 0
B68: ='Sumo is Cheating'!AB11 -> 2.4 | C68: ='Sumo is Cheating'!AA11 -> 0
B69: ='Sumo is Cheating'!AB12 -> 2.5 | C69: ='Sumo is Cheating'!AA12 -> 0
B70: ='Sumo is Cheating'!AB13 -> 3.1 | C70: ='Sumo is Cheating'!AA13 -> 0
B71: ='Sumo is Cheating'!AB14 -> 3.2 | C71: ='Sumo is Cheating'!AA14 -> 0
... B100: ='Sumo is Cheating'!AB43 -> 10.3 | C100: ='Sumo is Cheating'!AA43 -> 0
